BEGIN:VCALENDAR
VERSION:2.0
PRODID:-//Maxim Matthew - ECPv6.15.20//NONSGML v1.0//EN
CALSCALE:GREGORIAN
METHOD:PUBLISH
X-ORIGINAL-URL:https://maxim-matthew.com/en
X-WR-CALDESC:Events for Maxim Matthew
REFRESH-INTERVAL;VALUE=DURATION:PT1H
X-Robots-Tag:noindex
X-PUBLISHED-TTL:PT1H
BEGIN:VTIMEZONE
TZID:Europe/Berlin
BEGIN:DAYLIGHT
TZOFFSETFROM:+0100
TZOFFSETTO:+0200
TZNAME:CEST
DTSTART:20250330T010000
END:DAYLIGHT
BEGIN:STANDARD
TZOFFSETFROM:+0200
TZOFFSETTO:+0100
TZNAME:CET
DTSTART:20251026T010000
END:STANDARD
BEGIN:DAYLIGHT
TZOFFSETFROM:+0100
TZOFFSETTO:+0200
TZNAME:CEST
DTSTART:20260329T010000
END:DAYLIGHT
BEGIN:STANDARD
TZOFFSETFROM:+0200
TZOFFSETTO:+0100
TZNAME:CET
DTSTART:20261025T010000
END:STANDARD
BEGIN:DAYLIGHT
TZOFFSETFROM:+0100
TZOFFSETTO:+0200
TZNAME:CEST
DTSTART:20270328T010000
END:DAYLIGHT
BEGIN:STANDARD
TZOFFSETFROM:+0200
TZOFFSETTO:+0100
TZNAME:CET
DTSTART:20271031T010000
END:STANDARD
END:VTIMEZONE
BEGIN:VEVENT
DTSTART;TZID=Europe/Berlin:20260729T080000
DTEND;TZID=Europe/Berlin:20260801T170000
DTSTAMP:20260421T102930
CREATED:20251015T102158Z
LAST-MODIFIED:20251019T062831Z
UID:10000003-1785312000-1785603600@maxim-matthew.com
SUMMARY:FRØSTFÆDRIN – Die Buchpremiere
DESCRIPTION:Ein Abenteuer zwischen Fantasie und verlorenen Träumen – inspiriert von Nimmerland\, dunkler Mythologie & der Magie der 80er. 								\n				\n				\n					\n				\n					\n				\n		\n					\n				\n				\n																														\n				\n		\n		\n		\n				\n				\n					Ein Greif. Ein Junge.  Eine verlorene Welt. Was ist\, wenn Nimmerland real war – und zerbrochen ist?				\n				\n				\n				\n									Ein Dark-Fantasy-Abenteuer für alle\, die noch an Wunder glauben. Begleite Alex und Ozzy in eine Welt\, die ihre Träume verliert – inspiriert von Nimmerland und der Nostalgie der 80er. 								\n				\n				\n				\n									\n					\n						\n									Mehr erfahren\n					\n					\n				\n								\n				\n				\n				\n				\n					\n				\n		\n		\n					\n				\n				\n							\n				\n		\n					\n				\n				\n					Bücher				\n				\n		\n				\n				\n					Bücher 				\n				\n				\n				\n					Ideen & In Arbeit				\n				\n				\n					\n				\n				\n				\n						\n				\n				\n				\n							\n				\n				\n			\n					\n		\n				\n				\n																\n															\n															\n				\n				\n				\n				\n					Wächter der Steine				\n				\n				\n				\n									Jugendroman								\n				\n				\n				\n										\n					\n				\n					\n				\n				\n				\n			\n					\n		\n				\n				\n																\n															\n															\n				\n				\n				\n				\n					Der Siegelträger Schatten der Macht				\n				\n				\n				\n									Jugendroman								\n				\n				\n				\n										\n					\n				\n					\n				\n				\n				\n			\n					\n		\n				\n				\n																\n															\n															\n				\n				\n				\n				\n					Das Gold der Karpaten				\n				\n				\n				\n									Jugendroman								\n				\n				\n				\n										\n					\n				\n					\n				\n				\n				\n			\n					\n		\n				\n				\n																\n															\n															\n				\n				\n				\n				\n					Headhunter The Assessment Weekend				\n				\n				\n				\n									Thriller								\n				\n				\n				\n										\n					\n				\n					\n				\n				\n				\n			\n					\n		\n				\n				\n																\n															\n															\n				\n				\n				\n				\n					Flüstern der Lagune				\n				\n				\n				\n									Liebesroman								\n				\n				\n				\n										\n					\n				\n					\n				\n				\n				\n			\n					\n		\n				\n				\n																\n															\n															\n				\n				\n				\n				\n					The Last War Die geliebte Stadt				\n				\n				\n				\n									Fantasyroman								\n				\n				\n				\n										\n					\n				\n					\n				\n				\n				\n			\n					\n		\n				\n				\n																\n															\n															\n				\n				\n				\n				\n					The Gin High Tea Gin-Cocktails				\n				\n				\n				\n									Cocktailbuch								\n				\n				\n				\n										\n					\n				\n					\n				\n				\n				\n			\n					\n		\n				\n				\n																\n															\n															\n				\n				\n				\n				\n					The Gin High Tea – Das Gin Malbuch für Gin-Liebhaber				\n				\n				\n				\n									Malbuch								\n				\n				\n				\n										\n					\n				\n					\n				\n				\n				\n		\n					\n							\n			\n							\n					\n						\n				\n					\n				\n				\n		\n		\n				\n				\n							\n			\n										\n							\n		\n					\n		\n				\n		\n				\n				\n																														\n				\n				\n				\n									Von Design bis Storytelling – meine Reise ist geprägt von der Magie der Fantasie und der unerschütterlichen Kraft der Träume. Ein Leben voller kreativer Abenteuer und zauberhafter Momente. Erfahre mehr über meinen ungewöhnlichen Weg. 								\n				\n				\n				\n									\n					\n						\n									Mehr über mich erfahren\n					\n					\n				\n								\n				\n				\n					\n				\n				\n								\n								\n		\n						\n				\n				\n				\n		\n					\n				\n				\n							\n				\n		\n					\n				\n				\n					Echoes of Neverland				\n				\n		\n				\n				\n					Neuigkeiten 				\n				\n				\n				\n					Träume & Abenteuer				\n				\n				\n					\n				\n				\n				\n						\n				\n					\n				\n		\n					\n				\n				\n							\n				\n				\n			\n		\n		\n				\n				\n																\n															\n															\n				\n				\n		\n		\n		\n				\n				\n							\n								\n													\n										22					\n								\n				\n						\n				\n				\n		\n				\n				\n							\n								\n													\n										Jun					\n								\n				\n						\n				\n				\n				\n							\n								\n													\n										2025					\n								\n				\n						\n				\n				\n				\n		\n		\n				\n				\n					Kapitel 3 – Fairies Wear Boots: Fremde Gesichter				\n				\n				\n				\n					Neue Stadt. Neue Gesichter. Alte Schatten. Mammoth Lakes zeigt Alex nicht gerade seine einladendste Seite – erst der Fast-Crash..				\n				\n				\n				\n				\n							\n			\n			Artboard-34			\n		\n						\n				\n				\n				\n				\n				\n				\n				\n			\n		\n		\n				\n				\n																\n															\n															\n				\n				\n		\n		\n		\n				\n				\n							\n								\n													\n										20					\n								\n				\n						\n				\n				\n		\n				\n				\n							\n								\n													\n										Jun					\n								\n				\n						\n				\n				\n				\n							\n								\n													\n										2025					\n								\n				\n						\n				\n				\n				\n		\n		\n				\n				\n					FRØSTFÆDRIN – Der Ruf des weißen Greifen | Teil 4 | Live-Lesung (Vorlektoratsfassung)				\n				\n				\n				\n					Am 20.06. ab 20:00 las ich Teil 4 einer ganz besonderen Fassung: die ungekürzte Originalversion vor dem Lektorat –..				\n				\n				\n				\n				\n							\n			\n			Artboard-34			\n		\n						\n				\n				\n				\n				\n				\n				\n				\n			\n		\n		\n				\n				\n																\n															\n															\n				\n				\n		\n		\n		\n				\n				\n							\n								\n													\n										18					\n								\n				\n						\n				\n				\n		\n				\n				\n							\n								\n													\n										Jun					\n								\n				\n						\n				\n				\n				\n							\n								\n													\n										2025					\n								\n				\n						\n				\n				\n				\n		\n		\n				\n				\n					Patreon auf Pause – aber ich bleibe für euch da				\n				\n				\n				\n					Hey du\, ich möchte ganz offen mit dir sein: Ich hatte gehofft\, dass mein Patreon-Account ein Ort wird\, an..				\n				\n				\n				\n				\n							\n			\n			Artboard-34			\n		\n						\n				\n				\n				\n				\n				\n				\n				\n			\n		\n		\n				\n				\n																\n															\n															\n				\n				\n		\n		\n		\n				\n				\n							\n								\n													\n										06					\n								\n				\n						\n				\n				\n		\n				\n				\n							\n								\n													\n										Jun					\n								\n				\n						\n				\n				\n				\n							\n								\n													\n										2025					\n								\n				\n						\n				\n				\n				\n		\n		\n				\n				\n					FRØSTFÆDRIN – Der Ruf des weißen Greifen | Teil 3 | Live-Lesung & Re-Recording (Vorlektoratsfassung)				\n				\n				\n				\n					Am 6. Juni las ich Teil 3 von FRØSTFÆDRIN in einer ganz besonderen Vorabfassung: der ungekürzten Originalversion vor dem..				\n				\n				\n				\n				\n							\n			\n			Artboard-34			\n		\n						\n				\n				\n				\n				\n				\n				\n				\n			\n		\n		\n				\n				\n																\n															\n															\n				\n				\n		\n		\n		\n				\n				\n							\n								\n													\n										04					\n								\n				\n						\n				\n				\n		\n				\n				\n							\n								\n													\n										Jun					\n								\n				\n						\n				\n				\n				\n							\n								\n													\n										2025					\n								\n				\n						\n				\n				\n				\n		\n		\n				\n				\n					Die inoffizielle (und bald offizielle) Soundtrack-Playlist zu Frøstfǽdrin!				\n				\n				\n				\n					﻿﻿ Hier findest du alle Songs\, die im Buch Frøstfǽdrin – Der Ruf des weißen Greifen erwähnt werden –..				\n				\n				\n				\n				\n							\n			\n			Artboard-34			\n		\n						\n				\n				\n				\n				\n				\n				\n				\n			\n		\n		\n				\n				\n																\n															\n															\n				\n				\n		\n		\n		\n				\n				\n							\n								\n													\n										30					\n								\n				\n						\n				\n				\n		\n				\n				\n							\n								\n													\n										May					\n								\n				\n						\n				\n				\n				\n							\n								\n													\n										2025					\n								\n				\n						\n				\n				\n				\n		\n		\n				\n				\n					Namensmagie & neue Legenden – exklusiv für euch!				\n				\n				\n				\n					Ich habe begonnen\, alle Namen und Zeichnungen im Schneefeder-Universum zu überarbeiten – damit sie klanglich\, kulturell und emotional wirklich..				\n				\n				\n				\n				\n							\n			\n			Artboard-34			\n		\n						\n				\n				\n				\n				\n				\n				\n				\n		\n					\n						\n				\n				\n				\n									\n					\n						\n									Zum BLOG\n					\n					\n				\n								\n				\n					\n				\n		\n					\n				\n				\n					\n	\n		\n\n			\n			\n\n			\n			\n				\n											\n\n	\n	\n		\n			Jul		\n		\n			29		\n	\n\n\n	\n		\n			\n\n				\n					\n		\n		29. July @ 08:00 Uhr - 1. August @ 17:00 Uhr	\n	\n					\n	\n		FRØSTFÆDRIN – Die Buchpremiere	\n\n				\n\n				\n\n			\n			Holy Ground - More to be revealed		\n	\n		\n\n			\n		\n	\n\n\n									\n\n				\n	\n		View Calendar
URL:https://maxim-matthew.com/en/veranstaltung/frostfaedrin-buchpremiere-2026/
LOCATION:Holy Ground – More to be revealed\, Germany
CATEGORIES:Festival
ATTACH;FMTTYPE=image/jpeg:https://maxim-matthew.com/wp-content/uploads/2025/10/buch-festival-release3.jpg
END:VEVENT
END:VCALENDAR